BEGIN:VCALENDAR
VERSION:2.0
PRODID:-//wp-events-plugin.com//7.2.3.1//EN
TZID:Europe/Paris
X-WR-TIMEZONE:Europe/Paris
BEGIN:VEVENT
UID:10@mairie-fontaine.fr
DTSTART;TZID=Europe/Paris:20250919T193000
DTEND;TZID=Europe/Paris:20250919T193000
DTSTAMP:20250904T090154Z
URL:https://mairie-fontaine.fr/events/ouverture-de-saison-de-la-source/
SUMMARY:Ouverture de saison de La Source
DESCRIPTION:Le bal à facette (spectacle musical)\nLa Source à 19h30\nEntr
 ée gratuite
LOCATION:La Source\,  38 Av. Lénine\, 38 Av. Lénine\, 38600\, France
X-APPLE-STRUCTURED-LOCATION;VALUE=URI;X-ADDRESS=38 Av. Lénine\, 38 Av. Lé
 nine\, 38600\, France;X-APPLE-RADIUS=100;X-TITLE=La Source:geo:0,0
END:VEVENT
BEGIN:VTIMEZONE
TZID:Europe/Paris
X-LIC-LOCATION:Europe/Paris
BEGIN:DAYLIGHT
DTSTART:20250330T030000
TZOFFSETFROM:+0100
TZOFFSETTO:+0200
TZNAME:CEST
END:DAYLIGHT
END:VTIMEZONE
END:VCALENDAR