BEGIN:VCALENDAR
VERSION:2.0
PRODID:-//wp-events-plugin.com//7.2.3.1//EN
TZID:Europe/Paris
X-WR-TIMEZONE:Europe/Paris
BEGIN:VEVENT
UID:16@mairie-fontaine.fr
DTSTART;TZID=Europe/Paris:20250925T203000
DTEND;TZID=Europe/Paris:20250925T203000
DTSTAMP:20250904T093614Z
URL:https://mairie-fontaine.fr/events/verdee-release-party-chanson-pop/
SUMMARY:Verdée - release party (chanson pop)
DESCRIPTION:La Source à 20h30\nTarifs : 6 € à 12 €
LOCATION:La Source\, 38 Av. Lénine\, 38 Av. Lénine\, 38600\, France
X-APPLE-STRUCTURED-LOCATION;VALUE=URI;X-ADDRESS=38 Av. Lénine\, 38 Av. Lé
 nine\, 38600\, France;X-APPLE-RADIUS=100;X-TITLE=La Source:geo:0,0
END:VEVENT
BEGIN:VTIMEZONE
TZID:Europe/Paris
X-LIC-LOCATION:Europe/Paris
BEGIN:DAYLIGHT
DTSTART:20250330T030000
TZOFFSETFROM:+0100
TZOFFSETTO:+0200
TZNAME:CEST
END:DAYLIGHT
END:VTIMEZONE
END:VCALENDAR